BEGIN:VCALENDAR
VERSION:2.0
PRODID:-//SCC                                                                     - ECPv6.15.9//NONSGML v1.0//EN
CALSCALE:GREGORIAN
METHOD:PUBLISH
X-WR-CALNAME:SCC                                                                    
X-ORIGINAL-URL:https://sierrachristianchurch.org
X-WR-CALDESC:Events for SCC                                                                    
REFRESH-INTERVAL;VALUE=DURATION:PT1H
X-Robots-Tag:noindex
X-PUBLISHED-TTL:PT1H
BEGIN:VTIMEZONE
TZID:UTC
BEGIN:STANDARD
TZOFFSETFROM:+0000
TZOFFSETTO:+0000
TZNAME:UTC
DTSTART:20220101T000000
END:STANDARD
END:VTIMEZONE
BEGIN:VEVENT
DTSTART;TZID=UTC:20260509T080000
DTEND;TZID=UTC:20260509T093000
DTSTAMP:20260422T224949
CREATED:20230609T193632Z
LAST-MODIFIED:20260412T055922Z
UID:643-1778313600-1778319000@sierrachristianchurch.org
SUMMARY:Mens Breakfast
DESCRIPTION:
URL:https://sierrachristianchurch.org/event/mens-breakfast/
LOCATION:New Life Christian Church\, 72690 CA-70\, Portola CA\, CA\, 96122\, United States
ATTACH;FMTTYPE=image/jpeg:https://sierrachristianchurch.org/wp-content/uploads/2023/06/Mens-Breakfast.jpg
END:VEVENT
BEGIN:VEVENT
DTSTART;TZID=UTC:20260429T180000
DTEND;TZID=UTC:20260429T190000
DTSTAMP:20260422T224949
CREATED:20230623T191212Z
LAST-MODIFIED:20260412T055829Z
UID:705-1777485600-1777489200@sierrachristianchurch.org
SUMMARY:Community Dinner
DESCRIPTION:Join the community in a meal.
URL:https://sierrachristianchurch.org/event/community-dinner/
LOCATION:Holy Family Church\, 108 Taylor Ave\, Portola\, CA\, 96122\, United States
END:VEVENT
BEGIN:VEVENT
DTSTART;TZID=UTC:20260416T183000
DTEND;TZID=UTC:20260416T193000
DTSTAMP:20260422T224949
CREATED:20230609T193910Z
LAST-MODIFIED:20260412T055746Z
UID:646-1776364200-1776367800@sierrachristianchurch.org
SUMMARY:Mens Bible Study (study through the book of John)
DESCRIPTION:Thursdays\nAll Men Invited\n(Study through the book if John ) \n  \n 
URL:https://sierrachristianchurch.org/event/mens-bible-study/
LOCATION:SCC\, 81059 Hwy 70\, Beckwourth\, CA\, United States
ATTACH;FMTTYPE=image/jpeg:https://sierrachristianchurch.org/wp-content/uploads/2023/06/IMG_6071.jpeg
END:VEVENT
BEGIN:VEVENT
DTSTART;TZID=UTC:20251224T183000
DTEND;TZID=UTC:20251224T193000
DTSTAMP:20260422T224949
CREATED:20231205T231748Z
LAST-MODIFIED:20251115T233017Z
UID:812-1766601000-1766604600@sierrachristianchurch.org
SUMMARY:Christmas Eve Candle Light Service
DESCRIPTION:All Are Welcome!
URL:https://sierrachristianchurch.org/event/christmas-eve-candle-light-service/
LOCATION:SCC\, 81059 Hwy 70\, Beckwourth\, CA\, United States
END:VEVENT
BEGIN:VEVENT
DTSTART;TZID=UTC:20251116T170000
DTEND;TZID=UTC:20251116T210000
DTSTAMP:20260422T224949
CREATED:20250504T145436Z
LAST-MODIFIED:20251115T232528Z
UID:1313-1763312400-1763326800@sierrachristianchurch.org
SUMMARY:Harvest Crusade    (Live Stream)
DESCRIPTION:Harvest Crusade\nLive Stream at SCC\nA night of worship!\nCome Join Us!\n 
URL:https://sierrachristianchurch.org/event/harvest-crusade/
LOCATION:SCC\, 81059 Hwy 70\, Beckwourth\, CA\, United States
ATTACH;FMTTYPE=image/jpeg:https://sierrachristianchurch.org/wp-content/uploads/2025/05/IMG_6069.jpeg
END:VEVENT
BEGIN:VEVENT
DTSTART;TZID=UTC:20250926T180000
DTEND;TZID=UTC:20250926T200000
DTSTAMP:20260422T224949
CREATED:20230710T202353Z
LAST-MODIFIED:20250809T154530Z
UID:733-1758909600-1758916800@sierrachristianchurch.org
SUMMARY:Fall Festival
DESCRIPTION:FREE DINNER!\nPetting zoo\, bounce house\, face painting\, games\, hayride & much more!\nEveryone Invited!\nScreenshot
URL:https://sierrachristianchurch.org/event/harvest-festival/
LOCATION:SCC\, 81059 Hwy 70\, Beckwourth\, CA\, United States
ATTACH;FMTTYPE=image/jpeg:https://sierrachristianchurch.org/wp-content/uploads/2023/07/IMG_5641.jpeg
END:VEVENT
BEGIN:VEVENT
DTSTART;TZID=UTC:20250912T180000
DTEND;TZID=UTC:20250913T130000
DTSTAMP:20260422T224949
CREATED:20250424T145222Z
LAST-MODIFIED:20250820T060848Z
UID:1303-1757700000-1757768400@sierrachristianchurch.org
SUMMARY:Men’s Conference
DESCRIPTION:Men of Faith\nand Courage\n \nSeptember 12-13\n\n\n\n(Stay tuned for more information)
URL:https://sierrachristianchurch.org/event/mens-conference/
LOCATION:SCC\, 81059 Hwy 70\, Beckwourth\, CA\, United States
ATTACH;FMTTYPE=image/png:https://sierrachristianchurch.org/wp-content/uploads/2024/06/SCC-pergula.png
END:VEVENT
BEGIN:VEVENT
DTSTART;TZID=UTC:20250905T170000
DTEND;TZID=UTC:20250905T200000
DTSTAMP:20260422T224949
CREATED:20240909T165149Z
LAST-MODIFIED:20250820T062938Z
UID:1154-1757091600-1757102400@sierrachristianchurch.org
SUMMARY:Peak Women's Care
DESCRIPTION:Third Annual\nFundraising Banquet\n(“To Him who is able to do far more than we could ever ask or think….”)\nEphesians 3:20\n  \n 
URL:https://sierrachristianchurch.org/event/peak-womens-care-2/
LOCATION:Holy Family Church\, 108 Taylor Ave\, Portola\, CA\, 96122\, United States
ATTACH;FMTTYPE=image/jpeg:https://sierrachristianchurch.org/wp-content/uploads/2025/04/IMG_5684.jpeg
END:VEVENT
BEGIN:VEVENT
DTSTART;TZID=UTC:20250517T100000
DTEND;TZID=UTC:20250517T130000
DTSTAMP:20260422T224949
CREATED:20250424T134759Z
LAST-MODIFIED:20250424T143054Z
UID:1288-1747476000-1747486800@sierrachristianchurch.org
SUMMARY:Peak Women’s Care
DESCRIPTION:Peak Women’s Care\nWalk for Life\nMeet at Portola Park\nBegins at 10AM\nClick here to sign up! \n 
URL:https://sierrachristianchurch.org/event/peak-womens-care-3/
LOCATION:CA
ATTACH;FMTTYPE=image/jpeg:https://sierrachristianchurch.org/wp-content/uploads/2025/04/IMG_4931.jpeg
END:VEVENT
BEGIN:VEVENT
DTSTART;TZID=UTC:20250420T090000
DTEND;TZID=UTC:20250420T120000
DTSTAMP:20260422T224949
CREATED:20240326T221418Z
LAST-MODIFIED:20250419T033027Z
UID:927-1745139600-1745150400@sierrachristianchurch.org
SUMMARY:Easter Sunday
DESCRIPTION:Easter Sunday\nSunday Brunch   9:00AM\nService to Follow   10:30AM\n(ALL ARE WELCOME)
URL:https://sierrachristianchurch.org/event/easter-sunday/
LOCATION:SCC\, 81059 Hwy 70\, Beckwourth\, CA\, United States
END:VEVENT
BEGIN:VEVENT
DTSTART;TZID=UTC:20250418T190000
DTEND;TZID=UTC:20250418T200000
DTSTAMP:20260422T224949
CREATED:20240326T221013Z
LAST-MODIFIED:20250414T020442Z
UID:923-1745002800-1745006400@sierrachristianchurch.org
SUMMARY:Good Friday Service
DESCRIPTION:Good Friday Service\nAll Welcome
URL:https://sierrachristianchurch.org/event/good-friday-service/
LOCATION:SCC\, 81059 Hwy 70\, Beckwourth\, CA\, United States
END:VEVENT
BEGIN:VEVENT
DTSTART;VALUE=DATE:20250119
DTEND;VALUE=DATE:20250120
DTSTAMP:20260422T224949
CREATED:20250112T185431Z
LAST-MODIFIED:20250112T185431Z
UID:1228-1737244800-1737331199@sierrachristianchurch.org
SUMMARY:Sanctity of Human Life
DESCRIPTION:
URL:https://sierrachristianchurch.org/event/sanctity-of-human-life/
LOCATION:CA
ATTACH;FMTTYPE=image/png:https://sierrachristianchurch.org/wp-content/uploads/2025/01/SOHL-2025_FB-Post_3.png
END:VEVENT
BEGIN:VEVENT
DTSTART;TZID=UTC:20241214T140000
DTEND;TZID=UTC:20241214T170000
DTSTAMP:20260422T224949
CREATED:20240618T201045Z
LAST-MODIFIED:20241203T154640Z
UID:1087-1734184800-1734195600@sierrachristianchurch.org
SUMMARY:Peak Women's Care
DESCRIPTION:OPEN HOUSE
URL:https://sierrachristianchurch.org/event/peak-womens-care/
LOCATION:CA
ATTACH;FMTTYPE=image/jpeg:https://sierrachristianchurch.org/wp-content/uploads/2024/12/0.jpg
END:VEVENT
BEGIN:VEVENT
DTSTART;TZID=UTC:20240517T180000
DTEND;TZID=UTC:20240517T210000
DTSTAMP:20260422T224949
CREATED:20240326T195133Z
LAST-MODIFIED:20240517T214848Z
UID:919-1715968800-1715979600@sierrachristianchurch.org
SUMMARY:Youth Night
DESCRIPTION:Pizza\n&\nMovie Night\n(All ages from 11-18 welcome)
URL:https://sierrachristianchurch.org/event/youth-night/
LOCATION:SCC\, 81059 Hwy 70\, Beckwourth\, CA\, United States
ATTACH;FMTTYPE=image/jpeg:https://sierrachristianchurch.org/wp-content/uploads/2024/03/Youth_Movie_Night__Pizza_5-17-24_26805288740294.jpeg
END:VEVENT
BEGIN:VEVENT
DTSTART;TZID=UTC:20230924T170000
DTEND;TZID=UTC:20230924T200000
DTSTAMP:20260422T224949
CREATED:20230821T165044Z
LAST-MODIFIED:20230914T230845Z
UID:754-1695574800-1695585600@sierrachristianchurch.org
SUMMARY:BBQ @ the Prayer Cabin
DESCRIPTION:A Time to Break Bread Together\nFellowship\nWorship
URL:https://sierrachristianchurch.org/event/bbq-the-prayer-cabin/
LOCATION:Roberti Ranch Prayer Cabin\, 7411 Dyson Ln\, Vinton\, CA\, 96135\, United States
ATTACH;FMTTYPE=image/jpeg:https://sierrachristianchurch.org/wp-content/uploads/2023/08/prayer-cabin.jpg
END:VEVENT
BEGIN:VEVENT
DTSTART;TZID=UTC:20230719T060000
DTEND;TZID=UTC:20230719T210000
DTSTAMP:20260422T224949
CREATED:20230707T223110Z
LAST-MODIFIED:20230707T223257Z
UID:724-1689746400-1689800400@sierrachristianchurch.org
SUMMARY:Mens BBQ/Study
DESCRIPTION:All Men invited. \nCall Karl with any questions.  775-843-0377
URL:https://sierrachristianchurch.org/event/mens-bbq-study/
LOCATION:Prayer Cabin Roberti Ranch\, 7411 Dyson Ln\, Loyalton\, CA\, 96118\, United States
END:VEVENT
END:VCALENDAR