BEGIN:VCALENDAR
VERSION:2.0
PRODID:-//SCC                                                                     - ECPv6.15.9//NONSGML v1.0//EN
CALSCALE:GREGORIAN
METHOD:PUBLISH
X-ORIGINAL-URL:https://sierrachristianchurch.org
X-WR-CALDESC:Events for SCC                                                                    
REFRESH-INTERVAL;VALUE=DURATION:PT1H
X-Robots-Tag:noindex
X-PUBLISHED-TTL:PT1H
BEGIN:VTIMEZONE
TZID:UTC
BEGIN:STANDARD
TZOFFSETFROM:+0000
TZOFFSETTO:+0000
TZNAME:UTC
DTSTART:20230101T000000
END:STANDARD
END:VTIMEZONE
BEGIN:VEVENT
DTSTART;TZID=UTC:20241214T140000
DTEND;TZID=UTC:20241214T170000
DTSTAMP:20260424T052800
CREATED:20240618T201045Z
LAST-MODIFIED:20241203T154640Z
UID:1087-1734184800-1734195600@sierrachristianchurch.org
SUMMARY:Peak Women's Care
DESCRIPTION:OPEN HOUSE
URL:https://sierrachristianchurch.org/event/peak-womens-care/
LOCATION:CA
ATTACH;FMTTYPE=image/jpeg:https://sierrachristianchurch.org/wp-content/uploads/2024/12/0.jpg
END:VEVENT
END:VCALENDAR